BEGIN:VCALENDAR
VERSION:2.0
PRODID:-//Becherbach - ECPv5.5.0.1//NONSGML v1.0//EN
CALSCALE:GREGORIAN
METHOD:PUBLISH
X-WR-CALNAME:Becherbach
X-ORIGINAL-URL:https://becherbach-bei-kirn.de
X-WR-CALDESC:Veranstaltungen für Becherbach
BEGIN:VTIMEZONE
TZID:Europe/Berlin
BEGIN:DAYLIGHT
TZOFFSETFROM:+0100
TZOFFSETTO:+0200
TZNAME:CEST
DTSTART:20220327T010000
END:DAYLIGHT
BEGIN:STANDARD
TZOFFSETFROM:+0200
TZOFFSETTO:+0100
TZNAME:CET
DTSTART:20221030T010000
END:STANDARD
END:VTIMEZONE
BEGIN:VEVENT
DTSTART;TZID=Europe/Berlin:20220510T170000
DTEND;TZID=Europe/Berlin:20220510T180000
DTSTAMP:20260420T205249
CREATED:20220311T112118Z
LAST-MODIFIED:20220311T112118Z
UID:1212-1652202000-1652205600@becherbach-bei-kirn.de
SUMMARY:TuS - "Erstes Training" BAMBINI Fußball
DESCRIPTION:Liebe Eltern von energiegeladenen und bewegungsfreudigen Kindern\,\n\n \n\nder TuS Becherbach bietet ab dem 10.05.2022 wieder Bambini-Fußball für die „Kleinen“ an. Wir wollen damit die Freude und den Spaß an Bewegung und Mannschaftssport wecken und fördern.\n\n \n\nWichtig ist uns\, dass Ihr Kind:\n\n \n\n 	Kontakte zu Gleichaltrigen knüpfen und sich in eine Gruppe einfügen kann\n 	das eigene Bewegungskönnen verbessert\n 	Ideen und Kreativität beim Erfinden neuer Bewegungen zeigt\n 	das eigene Leistungsvermögen erprobt und dabei Selbstvertrauen aufbaut\n 	die Vielseitigkeit an Bewegungsaufgaben erleben kann und spielend Fußball erlernt\n 	Spaß am Fußball und Teamsport findet\n\n \n\nWir freuen uns sehr Ihr Kind und Sie beim Trainingsauftakt begrüßen zu dürfen und bitten zwecks Organisation und Planung um Anmeldung per Mail an info@tus-becherbach.de.\n\n \n\nFür nähere Informationen und Fragen stehen wir Ihnen gerne zur Verfügung.\n\n \n\nFrank Stenzhorn    Trainer Bambini\n\n \n\nSebastian Müller    Trainer Bambini\n\nEinladung zum BAMBINI Fußballtraining_3
URL:https://becherbach-bei-kirn.de/veranstaltungen/tus-erstes-training-bambini-fussball
LOCATION:Sportplatz Becherbach\, Neue Str.\, Becherbach bei Kirn\, 55608\, Deutschland
END:VEVENT
END:VCALENDAR