BEGIN:VCALENDAR
VERSION:2.0
PRODID:-//Becherbach - ECPv5.5.0.1//NONSGML v1.0//EN
CALSCALE:GREGORIAN
METHOD:PUBLISH
X-WR-CALNAME:Becherbach
X-ORIGINAL-URL:https://becherbach-bei-kirn.de
X-WR-CALDESC:Veranstaltungen für Becherbach
BEGIN:VTIMEZONE
TZID:Europe/Berlin
BEGIN:DAYLIGHT
TZOFFSETFROM:+0100
TZOFFSETTO:+0200
TZNAME:CEST
DTSTART:20210328T010000
END:DAYLIGHT
BEGIN:STANDARD
TZOFFSETFROM:+0200
TZOFFSETTO:+0100
TZNAME:CET
DTSTART:20211031T010000
END:STANDARD
END:VTIMEZONE
BEGIN:VEVENT
DTSTART;TZID=Europe/Berlin:20211015T150000
DTEND;TZID=Europe/Berlin:20211015T180000
DTSTAMP:20260420T205549
CREATED:20210927T153804Z
LAST-MODIFIED:20210927T153804Z
UID:1106-1634310000-1634320800@becherbach-bei-kirn.de
SUMMARY:Schlagball – Herbstferienprogramm VG-Kirner Land
DESCRIPTION:Auf dem Sportgelände des TuS Becherbach habt ihr die Möglichkeit Schlagball\, das historische Baseball\, zu spielen. Es handelt sich dabei um eine Mannschaftssportart bei der zwei Teams durch Schlagen\, Fangen und Werfen des Balles und durch Laufen versuchen möglichst viele Punkte zu erringen. \nAnmeldungen bitte per Mail an info@tus-becherbach.de \n 
URL:https://becherbach-bei-kirn.de/veranstaltungen/schlagball-herbstferienprogramm-vg-kirner-land
LOCATION:Sportplatz Becherbach\, Neue Str.\, Becherbach bei Kirn\, 55608\, Deutschland
END:VEVENT
END:VCALENDAR