BEGIN:VCALENDAR
VERSION:2.0
PRODID:-//Becherbach - ECPv5.5.0.1//NONSGML v1.0//EN
CALSCALE:GREGORIAN
METHOD:PUBLISH
X-WR-CALNAME:Becherbach
X-ORIGINAL-URL:https://becherbach-bei-kirn.de
X-WR-CALDESC:Veranstaltungen für Becherbach
BEGIN:VTIMEZONE
TZID:Europe/Berlin
BEGIN:DAYLIGHT
TZOFFSETFROM:+0100
TZOFFSETTO:+0200
TZNAME:CEST
DTSTART:20250330T010000
END:DAYLIGHT
BEGIN:STANDARD
TZOFFSETFROM:+0200
TZOFFSETTO:+0100
TZNAME:CET
DTSTART:20251026T010000
END:STANDARD
END:VTIMEZONE
BEGIN:VEVENT
DTSTART;TZID=Europe/Berlin:20250506T000000
DTEND;TZID=Europe/Berlin:20250610T000000
DTSTAMP:20260420T105045
CREATED:20241218T180552Z
LAST-MODIFIED:20241230T105706Z
UID:1612-1746489600-1749513600@becherbach-bei-kirn.de
SUMMARY:Qui Gong flow (mit Julia Winneknecht-Schied) / immer dienstags / 6 Einheiten
DESCRIPTION:
URL:https://becherbach-bei-kirn.de/veranstaltungen/qui-gong-flow-mit-julia-winneknecht-schied-immer-dienstags-6-einheiten
LOCATION:Gemeinschaftshaus Becherbach\, Hauptstr. 25\, Becherbach bei Kirn\, 55608\, Deutschland
END:VEVENT
END:VCALENDAR