BEGIN:VCALENDAR
VERSION:2.0
PRODID:-//Becherbach - ECPv5.5.0.1//NONSGML v1.0//EN
CALSCALE:GREGORIAN
METHOD:PUBLISH
X-WR-CALNAME:Becherbach
X-ORIGINAL-URL:https://becherbach-bei-kirn.de
X-WR-CALDESC:Veranstaltungen für Becherbach
BEGIN:VTIMEZONE
TZID:Europe/Berlin
BEGIN:DAYLIGHT
TZOFFSETFROM:+0100
TZOFFSETTO:+0200
TZNAME:CEST
DTSTART:20230326T010000
END:DAYLIGHT
BEGIN:STANDARD
TZOFFSETFROM:+0200
TZOFFSETTO:+0100
TZNAME:CET
DTSTART:20231029T010000
END:STANDARD
END:VTIMEZONE
BEGIN:VEVENT
DTSTART;TZID=Europe/Berlin:20230903T160000
DTEND;TZID=Europe/Berlin:20230903T235900
DTSTAMP:20260420T105121
CREATED:20230826T063557Z
LAST-MODIFIED:20230826T063557Z
UID:1391-1693756800-1693785540@becherbach-bei-kirn.de
SUMMARY:LAND IN SICHT  - Kulturtage Becherbach - Abendland – Serenade für 2 Naturhörner und Streichquartett
DESCRIPTION:LAND IN SICHT\nKulturtage in Becherbach b.Kirn\n\nDie Kulturtage „Land in Sicht“ finden vom 02.09.2023 – 24.09.2023 nach 2021 zum zweiten Mal in Becherbach statt und sind Teil des Kultursommers Rheinland-Pfalz. Das diesjährige Thema des Kultursommers lautet ‚Westen‘.\nOrganisation und Konzeption liegen in den Händen von Florian Haas und Stefan Hausmann.\nSchirmherr der Veranstaltung ist Verbandsgemeindebürgermeister Thomas Jung. \nGleich an mehreren Orten sind die Arbeiten von zehn bildenden Künstlerinnen und Künstlern zu sehen. \nKunstorte im Dorf \nEv.Kirche Becherbach  \nDie evangelische Kirche in Becherbach verfügt über eine wunderbare Akustik und ist der Veranstaltungsort  für die Konzerte der Kulturtage. Zudem ist in diesem Raum ein Teil der Kunstausstellung zu sehen. \nHistorischer Gasthof Landfrieden \nDer in der Dorfmitte Becherbachs gelegene Gasthof ‚Landfrieden‘ war früher ein zentraler Begegnungsort im dörflichen Leben. Seit vielen Jahren steht das Gebäude leer und wird in der Zeit der Kulturtage zu einem kleinen Kunstmuseum mit Malerei\, Grafik\, Installation\, Skulpturen und Fotografie. \nBienenhaus / Museum für Bienen \nIm alten Bienenhaus in der Flurwiese zeigt die Frankfurter Gruppe ‚finger‘ ein Museum für Bienen. Die Lebenswelt staatenbildender Insekten wird in Analogie zu aktuellen gesellschaftlichen Entwicklungen und Themen auf Umwelt und Gesellschaft bezogen. \nWandarbeit ‚Pflanzenköpfe‘\nDer in der Eifel lebende Künstler Klaus Dauven ist durch seine spektakulären Gestaltungen von Staudammmauern international bekannt geworden. Mit der von ihm entwickelten Technik der Depatination hat er anlässlich der Kulturtage eine Wandarbeit im Oberdorf angefertigt. \nSammlung historischer landwirtschaftlicher Geräte\nDer Becherbacher Werner Barth hat eine einzigartige Sammlung von Gerätschaften zusammengetragen\, die zum großen Teil selbst hergestellt und früher in der Landwirtschaft eingesetzt wurden. Er hat mit diesen Geräten noch gearbeitet und  erzählt sehr anschaulich von einer Zeit\, in der die Landwirtschaft vielfach noch Handarbeit war. \n  \nZudem sind an allen vier Wochenenden Konzerte in der Ev.Kirche und im Kirchgarten zu hören.\nDer Eintritt zu den Konzerten ist frei (ausgenommen Bachkantaten)\, Spenden zur Unterstützung der Kulturtage sind erbeten.\nÖrtliche Gruppen wie die Becherbacher Landfrauen\, der Kultur- und Verschönerungsverein Becherbach\, die Ev.Kirchengemeinde Becherbach\, der Kirchenchor und der Posaunenchor werden die Kulturtage mitgestalten. \nProgramm der Kulturtage ‚LAND IN SICHT‘ \nSa\, 02.09.2023    15 Uhr    Vernissage\n                                               musikalisch begleitet durch den Becherbacher Posaunenchor der  \n                                               Ev.Kirchengemeinde Becherbach.\n                                               Kulinarisches: Landfrauen Becherbach\nSo\, 03.09.2023    16 Uhr    Abendland – Serenade für 2 Naturhörner und Streichquartett\n                          ab 15 Uhr    Kulinarisches: Landfrauen Becherbach \nSa\, 09.09.2023    19 Uhr    Bachkantaten\n                                               Kirchenchor Becherbach\, Meisenheimer Vocalensemble\,\n                                               Barockorchester L’arpa festante\n                                               Leitung: Mechthild Mayer und Benedikt Schwarz \nFr\, 15.09.2023    20 Uhr    Filmabend der Lichtspielbrücke im Gemeindehaus ‚BRÜCKE‘\n                                               Old War – Der Breitengrad der Liebe\n\nSo\, 17.09.2023    15:30 Uhr    Ditzner Twintett\n                                               Jazz mit Posaune\, Tuba und Schlagzeug\n                                               Bewirtung: Kultur- und Verschönerungsverein \nSa\, 23.09.2023    16 Uhr    Federboa und Zylinder\n                                               ‚Zur Heimat erkor ich mir die Liebe‘ – Chansons und Gedichte\n                                               Bewirtung: Ev.Kirchengemeinde Becherbach \nDie Ausstellung ‚LAND IN SICHT‘ ist an allen Wochenenden jeweils Samstag und Sonntag von 15:00 – 18:00 Uhr und auch nach Vereinbarung zu sehen. \nInformationen zu den Konzerten \nAbendland – Serenade für 2 Naturhörner und Streichquartett I So\, 03.09.2023    16 Uhr\nDie Nacht- und Abendmusiken gehörten zu den großen Vergnügungen des späten 18.Jahrhunderts. J.Haydn und W.A.Mozart komponierten wunderbare Musik in kleiner Besetzung für solche Anlässe. Werke dieser beiden Komponisten musiziert ein Ensemble mit historischer Aufführungspraxis im ursprünglichen Klang dieser Zeit.\nMalina Mantcheva\, Dorothee Hesse – Violine / Christoph Hesse – Viola / Susanne Hartig – Cello / Christian Binde\, Stefan Hausmann – Naturhorn \nBachkantaten I Samstag\, 09.09.2023   19 Uhr\nDer Chor der Ev Kgm. Becherbach mit SängerInnen des Becherbacher Brückenchores und dem Vokalensemble Meisenheim musiziert mit dem Barockorchester L’arpa festante\, Solisten und dem festlichen Klang von drei Trompeten und Pauken Kantaten von Joh. Sebastian Bach und Georg Friedrich Kaufmann. Die Leitung liegt in den Händen von Mechthild Mayer und Benedikt Schwarz \nFilmabend der Lichtspielbrücke I Freitag\, 15.09.2023   20 Uhr \nOld War – der Breitengrad der Liebe\nDer mehrfach ausgezeichnete Film ‚Old War‘ (aus rechtlichen Gründen abgewandelter Filmtitel) erzählt von einer großen Liebe im Spannungsfeld von Ost und West. \nDitzner Twintett I Sonntag\, 17.09.2023    15:30 Uhr \nEin auf ein Minimum reduziertes Orchester trifft mit seiner Spielfreude und Spontanität zielgenau in Herz und Hirn. Die perfekte Symbiose von Symphonik und Jazz – hier musizieren Tuba\, Posaune und Schlagzeug auf Ohrenhöhe miteinander.\nBernhard Vanecek – Posaune / Roland Vanecek – Tuba\, Tasten / Erwin Ditzner – Schlagzeug \n  \nFederboa & Zylinder I Samstag\, 23.09.2023   16 Uhr \nMit ihrem Programm ‚Zur Heimat erkor ich mir die Liebe‘ nimmt das Ensemble Federboa & Zylinder das Publikum mit auf eine musikalisch-literarische Reise durch die Welt des Chansons. \nHeilswint Hausmann – Gesang\, Violine / Jörg Adler – Klavier / Stefan Hausmann – Tuba\, Flügelhorn / Guillermo Banz – Schlagzeug
URL:https://becherbach-bei-kirn.de/veranstaltungen/land-in-sicht-kulturtage-becherbach-abendland-serenade-fuer-2-naturhoerner-und-streichquartett
END:VEVENT
END:VCALENDAR