BEGIN:VCALENDAR
VERSION:2.0
PRODID:-//Becherbach - ECPv5.5.0.1//NONSGML v1.0//EN
CALSCALE:GREGORIAN
METHOD:PUBLISH
X-WR-CALNAME:Becherbach
X-ORIGINAL-URL:https://becherbach-bei-kirn.de
X-WR-CALDESC:Veranstaltungen für Becherbach
BEGIN:VTIMEZONE
TZID:Europe/Berlin
BEGIN:DAYLIGHT
TZOFFSETFROM:+0100
TZOFFSETTO:+0200
TZNAME:CEST
DTSTART:20220327T010000
END:DAYLIGHT
BEGIN:STANDARD
TZOFFSETFROM:+0200
TZOFFSETTO:+0100
TZNAME:CET
DTSTART:20221030T010000
END:STANDARD
END:VTIMEZONE
BEGIN:VEVENT
DTSTART;TZID=Europe/Berlin:20220507T100000
DTEND;TZID=Europe/Berlin:20220507T140000
DTSTAMP:20260420T190052
CREATED:20220315T192210Z
LAST-MODIFIED:20220315T192210Z
UID:1220-1651917600-1651932000@becherbach-bei-kirn.de
SUMMARY:KVB - Umwelttag
DESCRIPTION:
URL:https://becherbach-bei-kirn.de/veranstaltungen/kvb-umwelttag
LOCATION:Tenne Becherbach\, Hauptstraße 64\, Becherbach bei Kirn\, 55608\, Deutschland
END:VEVENT
END:VCALENDAR