BEGIN:VCALENDAR
VERSION:2.0
PRODID:-//Becherbach - ECPv5.5.0.1//NONSGML v1.0//EN
CALSCALE:GREGORIAN
METHOD:PUBLISH
X-WR-CALNAME:Becherbach
X-ORIGINAL-URL:https://becherbach-bei-kirn.de
X-WR-CALDESC:Veranstaltungen für Becherbach
BEGIN:VTIMEZONE
TZID:Europe/Berlin
BEGIN:DAYLIGHT
TZOFFSETFROM:+0100
TZOFFSETTO:+0200
TZNAME:CEST
DTSTART:20250330T010000
END:DAYLIGHT
BEGIN:STANDARD
TZOFFSETFROM:+0200
TZOFFSETTO:+0100
TZNAME:CET
DTSTART:20251026T010000
END:STANDARD
END:VTIMEZONE
BEGIN:VEVENT
DTSTART;TZID=Europe/Berlin:20250222T191100
DTEND;TZID=Europe/Berlin:20250222T191100
DTSTAMP:20260420T121220
CREATED:20241218T180250Z
LAST-MODIFIED:20241230T105402Z
UID:1597-1740251460-1740251460@becherbach-bei-kirn.de
SUMMARY:Kappensitzung
DESCRIPTION:
URL:https://becherbach-bei-kirn.de/veranstaltungen/kappensitzung-4
LOCATION:Gemeinschaftshaus Becherbach\, Hauptstr. 25\, Becherbach bei Kirn\, 55608\, Deutschland
END:VEVENT
END:VCALENDAR