BEGIN:VCALENDAR
VERSION:2.0
PRODID:-//Becherbach - ECPv5.5.0.1//NONSGML v1.0//EN
CALSCALE:GREGORIAN
METHOD:PUBLISH
X-WR-CALNAME:Becherbach
X-ORIGINAL-URL:https://becherbach-bei-kirn.de
X-WR-CALDESC:Veranstaltungen für Becherbach
BEGIN:VTIMEZONE
TZID:Europe/Berlin
BEGIN:DAYLIGHT
TZOFFSETFROM:+0100
TZOFFSETTO:+0200
TZNAME:CEST
DTSTART:20230326T010000
END:DAYLIGHT
BEGIN:STANDARD
TZOFFSETFROM:+0200
TZOFFSETTO:+0100
TZNAME:CET
DTSTART:20231029T010000
END:STANDARD
END:VTIMEZONE
BEGIN:VEVENT
DTSTART;TZID=Europe/Berlin:20230623T201500
DTEND;TZID=Europe/Berlin:20230623T220000
DTSTAMP:20260420T121233
CREATED:20230216T194356Z
LAST-MODIFIED:20230530T072909Z
UID:1315-1687551300-1687557600@becherbach-bei-kirn.de
SUMMARY:JHV TuS TERMINUPDATE
DESCRIPTION:
URL:https://becherbach-bei-kirn.de/veranstaltungen/jhv-tus
LOCATION:Sportlerheim Becherbach\, Neue Str.\, Becherbach bei Kirn\, 55608\, Deutschland
END:VEVENT
END:VCALENDAR