BEGIN:VCALENDAR
VERSION:2.0
PRODID:-//Becherbach - ECPv5.5.0.1//NONSGML v1.0//EN
CALSCALE:GREGORIAN
METHOD:PUBLISH
X-WR-CALNAME:Becherbach
X-ORIGINAL-URL:https://becherbach-bei-kirn.de
X-WR-CALDESC:Veranstaltungen für Becherbach
BEGIN:VTIMEZONE
TZID:Europe/Berlin
BEGIN:DAYLIGHT
TZOFFSETFROM:+0100
TZOFFSETTO:+0200
TZNAME:CEST
DTSTART:20210328T010000
END:DAYLIGHT
BEGIN:STANDARD
TZOFFSETFROM:+0200
TZOFFSETTO:+0100
TZNAME:CET
DTSTART:20211031T010000
END:STANDARD
END:VTIMEZONE
BEGIN:VEVENT
DTSTART;TZID=Europe/Berlin:20210416T200000
DTEND;TZID=Europe/Berlin:20210416T220000
DTSTAMP:20260421T035844
CREATED:20210312T214815Z
LAST-MODIFIED:20210409T212819Z
UID:892-1618603200-1618610400@becherbach-bei-kirn.de
SUMMARY:[ENTFÄLLT] Jahreshauptversammlung Kultur- und Verschönerungsverein Becherbach e.V.
DESCRIPTION:
URL:https://becherbach-bei-kirn.de/veranstaltungen/jahreshauptversammlung-kultur-und-verschoenerungsverein-becherbach-e-v
LOCATION:Gemeinschaftshaus Becherbach\, Hauptstr. 25\, Becherbach bei Kirn\, 55608\, Deutschland
END:VEVENT
END:VCALENDAR