BEGIN:VCALENDAR
VERSION:2.0
PRODID:-//Becherbach - ECPv5.5.0.1//NONSGML v1.0//EN
CALSCALE:GREGORIAN
METHOD:PUBLISH
X-WR-CALNAME:Becherbach
X-ORIGINAL-URL:https://becherbach-bei-kirn.de
X-WR-CALDESC:Veranstaltungen für Becherbach
BEGIN:VTIMEZONE
TZID:Europe/Berlin
BEGIN:DAYLIGHT
TZOFFSETFROM:+0100
TZOFFSETTO:+0200
TZNAME:CEST
DTSTART:20210328T010000
END:DAYLIGHT
BEGIN:STANDARD
TZOFFSETFROM:+0200
TZOFFSETTO:+0100
TZNAME:CET
DTSTART:20211031T010000
END:STANDARD
END:VTIMEZONE
BEGIN:VEVENT
DTSTART;TZID=Europe/Berlin:20210702T200000
DTEND;TZID=Europe/Berlin:20210702T220000
DTSTAMP:20260420T204846
CREATED:20210622T184854Z
LAST-MODIFIED:20210622T184854Z
UID:1078-1625256000-1625263200@becherbach-bei-kirn.de
SUMMARY:Jahreshauptversammlung - Dorfladen
DESCRIPTION:Die diesjährige Mitgliederversammlung des Dorfladens Becherbach findet am Freitag\, den 2. Juli 2021um 20.00 Uhr im Dorfgemeinschaftshauses Becherbach statt. Hierzu sind alle Mitglieder und am Dorfladen interessierte MitbürgerInnen recht herzlich eingeladen. Aktuelle Corona- Bestimmungen sind einzuhalten. \nTagesordnung: \n1. Begrüßung\n2. Totenehrung\n3. Geschäftsbericht des 1. Vorsitzenden\n4. Bilanzbericht des 2. Vorsitzenden\n5. Verschiedenes \nDer Vorstand \nAushang als Download: JHV mit Logo 2021
URL:https://becherbach-bei-kirn.de/veranstaltungen/jahreshauptversammlung-dorfladen-2
LOCATION:Gemeinschaftshaus Becherbach\, Hauptstr. 25\, Becherbach bei Kirn\, 55608\, Deutschland
END:VEVENT
END:VCALENDAR