BEGIN:VCALENDAR
VERSION:2.0
PRODID:-//Becherbach - ECPv5.5.0.1//NONSGML v1.0//EN
CALSCALE:GREGORIAN
METHOD:PUBLISH
X-WR-CALNAME:Becherbach
X-ORIGINAL-URL:https://becherbach-bei-kirn.de
X-WR-CALDESC:Veranstaltungen für Becherbach
BEGIN:VTIMEZONE
TZID:Europe/Berlin
BEGIN:DAYLIGHT
TZOFFSETFROM:+0100
TZOFFSETTO:+0200
TZNAME:CEST
DTSTART:20210328T010000
END:DAYLIGHT
BEGIN:STANDARD
TZOFFSETFROM:+0200
TZOFFSETTO:+0100
TZNAME:CET
DTSTART:20211031T010000
END:STANDARD
END:VTIMEZONE
BEGIN:VEVENT
DTSTART;TZID=Europe/Berlin:20211009T100000
DTEND;TZID=Europe/Berlin:20211009T170000
DTSTAMP:20260420T190308
CREATED:20210816T115905Z
LAST-MODIFIED:20210912T180431Z
UID:1095-1633773600-1633798800@becherbach-bei-kirn.de
SUMMARY:"Frisch gepresster Apfelmost" - Historischer Keltertag
DESCRIPTION: – Gekeltert nach alter Kunst; anno 1925 \n – Abgabe zu handelsüblichen Preisen \n – Erlöse für die Ortsverschönerung \n – Verpressung von alten Traditionssorten \nPLAKAT: Frisch gepresster Apfelmost \n Bitte eigene Gefäße / Flaschen mitbringen!
URL:https://becherbach-bei-kirn.de/veranstaltungen/historische-keltertage
LOCATION:Gasthaus Landfrieden\, Hauptstraße 34\, Becherbach\, 55608\, Deutschland
ATTACH;FMTTYPE=image/jpeg:https://becherbach-bei-kirn.de/wp-content/uploads/2021/08/Plakat_Keltertage.jpg
END:VEVENT
END:VCALENDAR