BEGIN:VCALENDAR
VERSION:2.0
PRODID:-//Becherbach - ECPv5.5.0.1//NONSGML v1.0//EN
CALSCALE:GREGORIAN
METHOD:PUBLISH
X-WR-CALNAME:Becherbach
X-ORIGINAL-URL:https://becherbach-bei-kirn.de
X-WR-CALDESC:Veranstaltungen für Becherbach
BEGIN:VTIMEZONE
TZID:Europe/Berlin
BEGIN:DAYLIGHT
TZOFFSETFROM:+0100
TZOFFSETTO:+0200
TZNAME:CEST
DTSTART:20220327T010000
END:DAYLIGHT
BEGIN:STANDARD
TZOFFSETFROM:+0200
TZOFFSETTO:+0100
TZNAME:CET
DTSTART:20221030T010000
END:STANDARD
END:VTIMEZONE
BEGIN:VEVENT
DTSTART;TZID=Europe/Berlin:20220115T100000
DTEND;TZID=Europe/Berlin:20220115T160000
DTSTAMP:20260420T204710
CREATED:20220103T155506Z
LAST-MODIFIED:20220103T155506Z
UID:1163-1642240800-1642262400@becherbach-bei-kirn.de
SUMMARY:Einsammeln der Weihnachtsbäume
DESCRIPTION:Wie auch schon in den vergangenen Jahren\, sammelt der Kultur- und Verschönerungsverein die abgeschmückten Weihnachtsbäume ein. \nWir bitten um eine Spende\, die für die Ortsverschönerung von Becherbach verwendet werden soll.
URL:https://becherbach-bei-kirn.de/veranstaltungen/einsammeln-der-weihnachtsbaeume-2
END:VEVENT
END:VCALENDAR