BEGIN:VCALENDAR
VERSION:2.0
PRODID:-//Becherbach - ECPv5.5.0.1//NONSGML v1.0//EN
CALSCALE:GREGORIAN
METHOD:PUBLISH
X-WR-CALNAME:Becherbach
X-ORIGINAL-URL:https://becherbach-bei-kirn.de
X-WR-CALDESC:Veranstaltungen für Becherbach
BEGIN:VTIMEZONE
TZID:Europe/Berlin
BEGIN:DAYLIGHT
TZOFFSETFROM:+0100
TZOFFSETTO:+0200
TZNAME:CEST
DTSTART:20220327T010000
END:DAYLIGHT
BEGIN:STANDARD
TZOFFSETFROM:+0200
TZOFFSETTO:+0100
TZNAME:CET
DTSTART:20221030T010000
END:STANDARD
END:VTIMEZONE
BEGIN:VEVENT
DTSTART;TZID=Europe/Berlin:20220722T180000
DTEND;TZID=Europe/Berlin:20220722T230000
DTSTAMP:20260420T173003
CREATED:20220521T125439Z
LAST-MODIFIED:20220521T125439Z
UID:1228-1658512800-1658530800@becherbach-bei-kirn.de
SUMMARY:Cocktailabend Freunde und Förderer
DESCRIPTION:
URL:https://becherbach-bei-kirn.de/veranstaltungen/cocktailabend-freunde-und-foerderer
LOCATION:Feuerwehrgerätehaus
END:VEVENT
END:VCALENDAR