BEGIN:VCALENDAR
VERSION:2.0
PRODID:-//Becherbach - ECPv5.5.0.1//NONSGML v1.0//EN
CALSCALE:GREGORIAN
METHOD:PUBLISH
X-WR-CALNAME:Becherbach
X-ORIGINAL-URL:https://becherbach-bei-kirn.de
X-WR-CALDESC:Veranstaltungen für Becherbach
BEGIN:VTIMEZONE
TZID:Europe/Berlin
BEGIN:DAYLIGHT
TZOFFSETFROM:+0100
TZOFFSETTO:+0200
TZNAME:CEST
DTSTART:20230326T010000
END:DAYLIGHT
BEGIN:STANDARD
TZOFFSETFROM:+0200
TZOFFSETTO:+0100
TZNAME:CET
DTSTART:20231029T010000
END:STANDARD
END:VTIMEZONE
BEGIN:VEVENT
DTSTART;TZID=Europe/Berlin:20230402T130000
DTEND;TZID=Europe/Berlin:20230402T153000
DTSTAMP:20260420T152701
CREATED:20230321T195338Z
LAST-MODIFIED:20230321T195338Z
UID:1345-1680440400-1680449400@becherbach-bei-kirn.de
SUMMARY:Becherbacher Familienbasar
DESCRIPTION:Sonntag\, den 2. April 2023 in der Tenne in Becherbach bei Kirn\, Hauptstraße 64 von 13:00 bis 15:00 Uhr (Schwangere und eine Begleitperson erhalten bereits ab 12:30 Uhr Einlass) \nIhr möchtet gerne etwas verkaufen? \nDer Listenverkauf startet ab sofort über die App basarlino oder online bei www.basarlino.de/3025 . Dort erhaltet ihr alle weiteren notwendigen Infos. Das Orga-Team steht bei Fragen per Mail an foerdi.kitabecherbach@gmail.com gerne für euch bereit. Verkaufen könnt ihr Kinderkleidung und Schuhe\, Spielsachen und alles rund ums Baby. \nab 3€/Liste // ab 30 Artikel // für nur 13% \nzusätzliches Angebot: Infostand zum Thema Stoffwindeln \nDie Tenne ist an diesem Nachmittag für Jung und Alt geöffnet! \nEs gibt Kaffee\, Kuchen\, frische Waffeln\, Grillwürstchen und kalte Getränke. Außerdem stehen für die Kinder eine Hüpfburg und eine Torwand zum Spaß haben bereit.
URL:https://becherbach-bei-kirn.de/veranstaltungen/becherbacher-familienbasar
LOCATION:Tenne Becherbach\, Hauptstraße 64\, Becherbach bei Kirn\, 55608\, Deutschland
END:VEVENT
END:VCALENDAR